BEGIN:VCALENDAR
VERSION:2.0
PRODID:-//eventon.com NONSGML v1.0//EN
CALSCALE:GREGORIAN
METHOD:PUBLISH
BEGIN:VEVENT
UID:69e5fbcd6372b
DTSTAMP:20260420T101125Z
DTSTART:20260325T163000Z
DTEND:20260325T180000Z
LOCATION:
SUMMARY:General Meeting
DESCRIPTION:General Meetings begin at 12:00 P.M. For live meetings\,  we en
 courage you to arrive early to network with other compliance professionals 
 and enjoy lunch\,  which will be served at approximately 11:30 A.M. Reserva
 tions must be received by the end of the day the Wednesday before the meeti
 ng date. Cancellations are[..]\nhttps://dacaonline.org/events/general-meeti
 ng-march25/
URL:https://dacaonline.org/events/general-meeting-march25/
END:VEVENT
END:VCALENDAR